BEGIN:VCALENDAR
VERSION:2.0
PRODID:-//Tukios.com/
BEGIN:VEVENT
UID:2e07bc94-df61-4dd4-bca0-a182dbe2b10c@obits.jones-wynn.com
DTSTAMP:20260423T173130Z
DTSTART:20260425T160000Z
DTEND:20260425T180000Z
SUMMARY:Visitation
DESCRIPTION:
URL:https://obits.jones-wynn.com/caleb-tyler
LOCATION: 2189 Midway road  Douglasville GA 30135
GEO:33.7482964;-84.6989498
END:VEVENT
END:VCALENDAR