BEGIN:VCALENDAR
VERSION:2.0
PRODID:-//Tukios.com/
BEGIN:VEVENT
UID:e30d144b-feb6-4c95-be9a-8d53302a5952@obits.jones-wynn.com
DTSTAMP:20260423T172952Z
DTSTART:20260425T180000Z
DTEND:20260425T190000Z
SUMMARY:Funeral Service
DESCRIPTION:
URL:https://obits.jones-wynn.com/caleb-tyler
LOCATION: 2189 Midway road  Douglasville GA 30135
GEO:33.7482964;-84.6989498
END:VEVENT
END:VCALENDAR