BEGIN:VCALENDAR
VERSION:2.0
PRODID:-//Tukios.com/
BEGIN:VEVENT
UID:3655d28b-44b7-4770-9575-3b22b2ce5ab0@obits.jones-wynn.com
DTSTAMP:20260422T210939Z
DTSTART:20260428T150000Z
DTEND:20260428T160000Z
SUMMARY:Visitation
DESCRIPTION:
URL:https://obits.jones-wynn.com/denny-perren
LOCATION:Jones-Wynn Funeral Home Villa Rica Chapel 306 Westview Drive  
	Villa Rica GA 30180
GEO:33.7316688;-84.9240266
END:VEVENT
END:VCALENDAR