BEGIN:VCALENDAR
VERSION:2.0
PRODID:-//Tukios.com/
BEGIN:VEVENT
UID:82ea2e09-ce22-4be4-bccb-b8e82ed00b78@obits.jones-wynn.com
DTSTAMP:20260422T210424Z
DTSTART:20260428T160000Z
DTEND:20260428T170000Z
SUMMARY:Memorial Service
DESCRIPTION:
URL:https://obits.jones-wynn.com/denny-perren
LOCATION:Jones-Wynn Funeral Home Villa Rica Chapel 306 Westview Drive  
	Villa Rica GA 30180
GEO:33.7316688;-84.9240266
END:VEVENT
END:VCALENDAR