BEGIN:VCALENDAR
VERSION:2.0
PRODID:-//Tukios.com/
BEGIN:VEVENT
UID:05f12779-92c2-4524-b6de-19ef8fbcd0c9@obits.jones-wynn.com
DTSTAMP:20260420T190553Z
DTSTART:20260423T210000Z
DTEND:20260423T230000Z
SUMMARY:Visitation
DESCRIPTION:
URL:https://obits.jones-wynn.com/marsha-ackerman
LOCATION: 2189 Midway Road  Douglasville GA 30135
GEO:33.7482964;-84.6989498
END:VEVENT
END:VCALENDAR