BEGIN:VCALENDAR
VERSION:2.0
PRODID:-//Tukios.com/
BEGIN:VEVENT
UID:b6f0b83d-2c3c-4652-b563-06ac15d088fa@obits.jones-wynn.com
DTSTAMP:20260420T190751Z
DTSTART:20260424T150000Z
DTEND:20260424T160000Z
SUMMARY:Funeral Service
DESCRIPTION:
URL:https://obits.jones-wynn.com/marsha-ackerman
LOCATION: 2189 Midway Road  Douglasville GA 30135
GEO:33.7482964;-84.6989498
END:VEVENT
END:VCALENDAR