BEGIN:VCALENDAR
VERSION:2.0
PRODID:-//Tukios.com/
BEGIN:VEVENT
UID:1d67407b-56a4-463c-a0c6-dc68f3282f60@obits.jones-wynn.com
DTSTAMP:20260420T190710Z
DTSTART:20260424
SUMMARY:Burial
DESCRIPTION:
URL:https://obits.jones-wynn.com/marsha-ackerman
LOCATION: 3180 S Sweetwater Rd  Lithia Springs GA 30122
GEO:33.774843;-84.646544
END:VEVENT
END:VCALENDAR